Package: xcms Version: 4.2.3 Command: chmod a+r xcms -R && E:\biocbuild\bbs-3.19-bioc\R\bin\R.exe CMD build --keep-empty-dirs --no-resave-data xcms StartedAt: 2024-10-16 22:32:59 -0400 (Wed, 16 Oct 2024) EndedAt: 2024-10-16 22:39:34 -0400 (Wed, 16 Oct 2024) EllapsedTime: 395.6 seconds RetCode: 0 Status: OK PackageFile: xcms_4.2.3.tar.gz PackageFileSize: 4.359 MiB