Package: xcms Version: 4.2.3 Command: rm -rf xcms.buildbin-libdir && mkdir xcms.buildbin-libdir && E:\biocbuild\bbs-3.19-bioc\R\bin\R.exe CMD INSTALL --build --library=xcms.buildbin-libdir xcms_4.2.3.tar.gz StartedAt: 2024-10-17 08:51:09 -0400 (Thu, 17 Oct 2024) EndedAt: 2024-10-17 08:53:30 -0400 (Thu, 17 Oct 2024) EllapsedTime: 141.7 seconds RetCode: 0 Status: OK PackageFile: xcms_4.2.3.zip PackageFileSize: 7.487 MiB