Package: xcms Version: 4.2.2 Command: F:\biocbuild\bbs-3.19-bioc\R\bin\R.exe CMD check --no-multiarch --install=check:xcms.install-out.txt --library=F:\biocbuild\bbs-3.19-bioc\R\library --no-vignettes --timings xcms_4.2.2.tar.gz StartedAt: 2024-06-27 07:23:35 -0400 (Thu, 27 Jun 2024) EndedAt: 2024-06-27 07:47:05 -0400 (Thu, 27 Jun 2024) EllapsedTime: 1409.2 seconds RetCode: 0 Status: WARNINGS CheckDir: xcms.Rcheck Warnings: 1