Package: xcms Version: 4.2.2 Command: chmod a+r xcms -R && F:\biocbuild\bbs-3.19-bioc\R\bin\R.exe CMD build --keep-empty-dirs --no-resave-data xcms StartedAt: 2024-06-26 22:36:15 -0400 (Wed, 26 Jun 2024) EndedAt: 2024-06-26 22:42:39 -0400 (Wed, 26 Jun 2024) EllapsedTime: 384.2 seconds RetCode: 0 Status: OK PackageFile: xcms_4.2.2.tar.gz PackageFileSize: 4.345 MiB