Package: xcms Version: 4.2.2 Command: rm -rf xcms.buildbin-libdir && mkdir xcms.buildbin-libdir && F:\biocbuild\bbs-3.19-bioc\R\bin\R.exe CMD INSTALL --build --library=xcms.buildbin-libdir xcms_4.2.2.tar.gz StartedAt: 2024-06-27 09:06:30 -0400 (Thu, 27 Jun 2024) EndedAt: 2024-06-27 09:08:43 -0400 (Thu, 27 Jun 2024) EllapsedTime: 133.1 seconds RetCode: 0 Status: OK PackageFile: xcms_4.2.2.zip PackageFileSize: 7.475 MiB