Package: xcms Version: 4.1.8 Command: /Library/Frameworks/R.framework/Resources/bin/R CMD check --install=check:xcms.install-out.txt --library=/Library/Frameworks/R.framework/Resources/library --no-vignettes --timings xcms_4.1.8.tar.gz StartedAt: 2024-03-02 12:26:24 -0500 (Sat, 02 Mar 2024) EndedAt: 2024-03-02 12:55:00 -0500 (Sat, 02 Mar 2024) EllapsedTime: 1716.4 seconds RetCode: 0 Status: OK CheckDir: xcms.Rcheck Warnings: 0