Package: xcms Version: 4.1.8 Command: rm -rf xcms.buildbin-libdir && mkdir xcms.buildbin-libdir && /Users/biocbuild/BBS/utils/build-universal.sh xcms_4.1.8.tar.gz /Library/Frameworks/R.framework/Resources/bin/R xcms.buildbin-libdir StartedAt: 2024-03-02 14:40:57 -0500 (Sat, 02 Mar 2024) EndedAt: 2024-03-02 14:43:40 -0500 (Sat, 02 Mar 2024) EllapsedTime: 163.6 seconds RetCode: 0 Status: OK PackageFile: xcms_4.1.8.tgz PackageFileSize: 11.75 MiB