Package: xcms Version: 4.2.1 Command: /Library/Frameworks/R.framework/Resources/bin/R CMD build --keep-empty-dirs --no-resave-data xcms StartedAt: 2024-06-09 18:33:02 -0400 (Sun, 09 Jun 2024) EndedAt: 2024-06-09 18:37:12 -0400 (Sun, 09 Jun 2024) EllapsedTime: 249.8 seconds RetCode: 0 Status: OK PackageFile: xcms_4.2.1.tar.gz PackageFileSize: 9.196 MiB