Package: xcms Version: 4.2.0 Command: /home/biocbuild/R/R-beta-2024-04-15_r86425/bin/R CMD check --install=check:xcms.install-out.txt --library=/home/biocbuild/R/R-beta-2024-04-15_r86425/site-library --no-vignettes --timings xcms_4.2.0.tar.gz StartedAt: 2024-05-08 13:09:22 -0000 (Wed, 08 May 2024) EndedAt: 2024-05-08 13:36:48 -0000 (Wed, 08 May 2024) EllapsedTime: 1646.6 seconds RetCode: 0 Status: OK CheckDir: xcms.Rcheck Warnings: 0