Package: xcms Version: 4.2.1 Command: /Library/Frameworks/R.framework/Resources/bin/R CMD INSTALL xcms StartedAt: 2024-06-09 16:37:59 -0400 (Sun, 09 Jun 2024) EndedAt: 2024-06-09 16:40:11 -0400 (Sun, 09 Jun 2024) EllapsedTime: 132.3 seconds RetCode: 0 Status: OK