Package: wppi Version: 1.12.0 Command: /Library/Frameworks/R.framework/Resources/bin/R CMD build --keep-empty-dirs --no-resave-data wppi StartedAt: 2024-10-17 00:19:27 -0400 (Thu, 17 Oct 2024) EndedAt: 2024-10-17 00:21:41 -0400 (Thu, 17 Oct 2024) EllapsedTime: 134.1 seconds RetCode: 0 Status: OK PackageFile: wppi_1.12.0.tar.gz PackageFileSize: 646.5 KiB