Package: wppi Version: 1.12.0 Command: rm -rf wppi.buildbin-libdir && mkdir wppi.buildbin-libdir && /Users/biocbuild/BBS/utils/build-universal.sh wppi_1.12.0.tar.gz /Library/Frameworks/R.framework/Resources/bin/R wppi.buildbin-libdir StartedAt: 2024-10-17 17:27:05 -0400 (Thu, 17 Oct 2024) EndedAt: 2024-10-17 17:27:49 -0400 (Thu, 17 Oct 2024) EllapsedTime: 43.7 seconds RetCode: 0 Status: OK PackageFile: wppi_1.12.0.tgz PackageFileSize: 296.7 KiB