Package: wppi Version: 1.12.0 Command: /Library/Frameworks/R.framework/Resources/bin/R CMD INSTALL wppi StartedAt: 2024-10-16 17:34:01 -0400 (Wed, 16 Oct 2024) EndedAt: 2024-10-16 17:34:12 -0400 (Wed, 16 Oct 2024) EllapsedTime: 10.4 seconds RetCode: 0 Status: OK