Package: wpm Version: 1.14.0 Command: chmod a+r wpm -R && E:\biocbuild\bbs-3.19-bioc\R\bin\R.exe CMD build --keep-empty-dirs --no-resave-data wpm StartedAt: 2024-10-16 22:32:45 -0400 (Wed, 16 Oct 2024) EndedAt: 2024-10-16 22:33:18 -0400 (Wed, 16 Oct 2024) EllapsedTime: 32.8 seconds RetCode: 0 Status: OK PackageFile: wpm_1.14.0.tar.gz PackageFileSize: 2.286 MiB