Package: wpm Version: 1.14.0 Command: chmod a+r wpm -R && F:\biocbuild\bbs-3.19-bioc\R\bin\R.exe CMD build --keep-empty-dirs --no-resave-data wpm StartedAt: 2024-06-26 22:35:54 -0400 (Wed, 26 Jun 2024) EndedAt: 2024-06-26 22:36:26 -0400 (Wed, 26 Jun 2024) EllapsedTime: 31.5 seconds RetCode: 0 Status: OK PackageFile: wpm_1.14.0.tar.gz PackageFileSize: 2.287 MiB