Package: wpm Version: 1.14.0 Command: rm -rf wpm.buildbin-libdir && mkdir wpm.buildbin-libdir && F:\biocbuild\bbs-3.19-bioc\R\bin\R.exe CMD INSTALL --build --library=wpm.buildbin-libdir wpm_1.14.0.tar.gz StartedAt: 2024-06-27 09:06:24 -0400 (Thu, 27 Jun 2024) EndedAt: 2024-06-27 09:06:42 -0400 (Thu, 27 Jun 2024) EllapsedTime: 18.2 seconds RetCode: 0 Status: OK PackageFile: wpm_1.14.0.zip PackageFileSize: 1.806 MiB