Package: wiggleplotr Version: 1.28.0 Command: chmod a+r wiggleplotr -R && E:\biocbuild\bbs-3.19-bioc\R\bin\R.exe CMD build --keep-empty-dirs --no-resave-data wiggleplotr StartedAt: 2024-10-16 22:32:38 -0400 (Wed, 16 Oct 2024) EndedAt: 2024-10-16 22:33:25 -0400 (Wed, 16 Oct 2024) EllapsedTime: 47.5 seconds RetCode: 0 Status: OK PackageFile: wiggleplotr_1.28.0.tar.gz PackageFileSize: 167.2 KiB