Package: wiggleplotr Version: 1.28.0 Command: /home/biocbuild/R/R-beta-2024-04-15_r86425/bin/R CMD check --install=check:wiggleplotr.install-out.txt --library=/home/biocbuild/R/R-beta-2024-04-15_r86425/site-library --no-vignettes --timings wiggleplotr_1.28.0.tar.gz StartedAt: 2024-05-08 13:08:04 -0000 (Wed, 08 May 2024) EndedAt: 2024-05-08 13:09:29 -0000 (Wed, 08 May 2024) EllapsedTime: 85.1 seconds RetCode: 0 Status: OK CheckDir: wiggleplotr.Rcheck Warnings: 0