Package: wiggleplotr Version: 1.28.0 Command: /Library/Frameworks/R.framework/Resources/bin/R CMD build --keep-empty-dirs --no-resave-data wiggleplotr StartedAt: 2024-06-10 06:37:55 -0400 (Mon, 10 Jun 2024) EndedAt: 2024-06-10 06:38:57 -0400 (Mon, 10 Jun 2024) EllapsedTime: 61.6 seconds RetCode: 0 Status: OK PackageFile: wiggleplotr_1.28.0.tar.gz PackageFileSize: 407.9 KiB