Package: wiggleplotr Version: 1.28.0 Command: rm -rf wiggleplotr.buildbin-libdir && mkdir wiggleplotr.buildbin-libdir && /Users/biocbuild/BBS/utils/build-universal.sh wiggleplotr_1.28.0.tar.gz /Library/Frameworks/R.framework/Resources/bin/R wiggleplotr.buildbin-libdir StartedAt: 2024-06-11 13:44:06 -0400 (Tue, 11 Jun 2024) EndedAt: 2024-06-11 13:44:15 -0400 (Tue, 11 Jun 2024) EllapsedTime: 8.6 seconds RetCode: 0 Status: OK PackageFile: wiggleplotr_1.28.0.tgz PackageFileSize: 461.6 KiB