Package: wiggleplotr Version: 1.28.0 Command: /Library/Frameworks/R.framework/Resources/bin/R CMD INSTALL wiggleplotr StartedAt: 2024-10-16 16:28:13 -0400 (Wed, 16 Oct 2024) EndedAt: 2024-10-16 16:28:19 -0400 (Wed, 16 Oct 2024) EllapsedTime: 5.1 seconds RetCode: 0 Status: OK