Package: widgetTools Version: 1.82.0 Command: /home/biocbuild/bbs-3.19-bioc/R/bin/R CMD build --keep-empty-dirs --no-resave-data widgetTools StartedAt: 2024-10-16 21:22:10 -0400 (Wed, 16 Oct 2024) EndedAt: 2024-10-16 21:22:17 -0400 (Wed, 16 Oct 2024) EllapsedTime: 7.0 seconds RetCode: 0 Status: OK PackageFile: widgetTools_1.82.0.tar.gz PackageFileSize: 125 KiB