Package: widgetTools Version: 1.82.0 Command: /Library/Frameworks/R.framework/Resources/bin/R CMD INSTALL widgetTools StartedAt: 2024-06-09 15:04:06 -0400 (Sun, 09 Jun 2024) EndedAt: 2024-06-09 15:04:22 -0400 (Sun, 09 Jun 2024) EllapsedTime: 15.5 seconds RetCode: 0 Status: OK