Package: widgetTools Version: 1.82.0 Command: /Library/Frameworks/R.framework/Resources/bin/R CMD check --install=check:widgetTools.install-out.txt --library=/Library/Frameworks/R.framework/Resources/library --no-vignettes --timings widgetTools_1.82.0.tar.gz StartedAt: 2024-10-18 16:44:16 -0400 (Fri, 18 Oct 2024) EndedAt: 2024-10-18 16:44:50 -0400 (Fri, 18 Oct 2024) EllapsedTime: 34.0 seconds RetCode: 0 Status: OK CheckDir: widgetTools.Rcheck Warnings: 0