Package: weitrix Version: 1.16.0 Command: E:\biocbuild\bbs-3.19-bioc\R\bin\R.exe CMD check --no-multiarch --install=check:weitrix.install-out.txt --library=E:\biocbuild\bbs-3.19-bioc\R\library --no-vignettes --timings weitrix_1.16.0.tar.gz StartedAt: 2024-10-17 06:54:16 -0400 (Thu, 17 Oct 2024) EndedAt: 2024-10-17 07:05:30 -0400 (Thu, 17 Oct 2024) EllapsedTime: 673.9 seconds RetCode: 0 Status: OK CheckDir: weitrix.Rcheck Warnings: 0