Package: weitrix Version: 1.16.0 Command: chmod a+r weitrix -R && E:\biocbuild\bbs-3.19-bioc\R\bin\R.exe CMD build --keep-empty-dirs --no-resave-data weitrix StartedAt: 2024-10-16 22:32:36 -0400 (Wed, 16 Oct 2024) EndedAt: 2024-10-16 22:41:54 -0400 (Wed, 16 Oct 2024) EllapsedTime: 557.9 seconds RetCode: 0 Status: OK PackageFile: weitrix_1.16.0.tar.gz PackageFileSize: 5.311 MiB