Package: weitrix Version: 1.16.0 Command: rm -rf weitrix.buildbin-libdir && mkdir weitrix.buildbin-libdir && E:\biocbuild\bbs-3.19-bioc\R\bin\R.exe CMD INSTALL --build --library=weitrix.buildbin-libdir weitrix_1.16.0.tar.gz StartedAt: 2024-10-17 08:50:55 -0400 (Thu, 17 Oct 2024) EndedAt: 2024-10-17 08:51:37 -0400 (Thu, 17 Oct 2024) EllapsedTime: 42.1 seconds RetCode: 0 Status: OK PackageFile: weitrix_1.16.0.zip PackageFileSize: 5.595 MiB