Package: weitrix Version: 1.16.0 Command: chmod a+r weitrix -R && F:\biocbuild\bbs-3.19-bioc\R\bin\R.exe CMD build --keep-empty-dirs --no-resave-data weitrix StartedAt: 2024-06-26 22:35:29 -0400 (Wed, 26 Jun 2024) EndedAt: 2024-06-26 22:45:22 -0400 (Wed, 26 Jun 2024) EllapsedTime: 593.1 seconds RetCode: 0 Status: OK PackageFile: weitrix_1.16.0.tar.gz PackageFileSize: 5.311 MiB