Package: weitrix Version: 1.16.0 Command: /home/biocbuild/bbs-3.19-bioc/R/bin/R CMD build --keep-empty-dirs --no-resave-data weitrix StartedAt: 2024-10-16 21:22:08 -0400 (Wed, 16 Oct 2024) EndedAt: 2024-10-16 21:30:20 -0400 (Wed, 16 Oct 2024) EllapsedTime: 492.3 seconds RetCode: 0 Status: OK PackageFile: weitrix_1.16.0.tar.gz PackageFileSize: 7.844 MiB