Package: weitrix Version: 1.16.0 Command: /Library/Frameworks/R.framework/Resources/bin/R CMD check --install=check:weitrix.install-out.txt --library=/Library/Frameworks/R.framework/Resources/library --no-vignettes --timings weitrix_1.16.0.tar.gz StartedAt: 2024-06-09 23:49:25 -0400 (Sun, 09 Jun 2024) EndedAt: 2024-06-09 23:53:56 -0400 (Sun, 09 Jun 2024) EllapsedTime: 270.8 seconds RetCode: 0 Status: OK CheckDir: weitrix.Rcheck Warnings: 0