Package: weitrix Version: 1.16.0 Command: /Library/Frameworks/R.framework/Resources/bin/R CMD build --keep-empty-dirs --no-resave-data weitrix StartedAt: 2024-10-17 11:32:20 -0400 (Thu, 17 Oct 2024) EndedAt: 2024-10-17 11:43:12 -0400 (Thu, 17 Oct 2024) EllapsedTime: 651.9 seconds RetCode: 0 Status: OK PackageFile: weitrix_1.16.0.tar.gz PackageFileSize: 8.973 MiB