Package: webbioc Version: 1.76.0 Command: F:\biocbuild\bbs-3.19-bioc\R\bin\R.exe CMD check --no-multiarch --install=check:webbioc.install-out.txt --library=F:\biocbuild\bbs-3.19-bioc\R\library --no-vignettes --timings webbioc_1.76.0.tar.gz StartedAt: 2024-06-27 07:22:45 -0400 (Thu, 27 Jun 2024) EndedAt: 2024-06-27 07:24:37 -0400 (Thu, 27 Jun 2024) EllapsedTime: 111.6 seconds RetCode: 0 Status: OK CheckDir: webbioc.Rcheck Warnings: 0