Package: webbioc Version: 1.76.0 Command: chmod a+r webbioc -R && F:\biocbuild\bbs-3.19-bioc\R\bin\R.exe CMD build --keep-empty-dirs --no-resave-data webbioc StartedAt: 2024-06-26 22:35:20 -0400 (Wed, 26 Jun 2024) EndedAt: 2024-06-26 22:35:54 -0400 (Wed, 26 Jun 2024) EllapsedTime: 34.0 seconds RetCode: 0 Status: OK PackageFile: webbioc_1.76.0.tar.gz PackageFileSize: 173.5 KiB