Package: webbioc Version: 1.76.0 Command: /Library/Frameworks/R.framework/Resources/bin/R CMD check --install=check:webbioc.install-out.txt --library=/Library/Frameworks/R.framework/Resources/library --no-vignettes --timings webbioc_1.76.0.tar.gz StartedAt: 2024-06-09 23:49:15 -0400 (Sun, 09 Jun 2024) EndedAt: 2024-06-09 23:50:56 -0400 (Sun, 09 Jun 2024) EllapsedTime: 101.0 seconds RetCode: 0 Status: OK CheckDir: webbioc.Rcheck Warnings: 0