Package: webbioc Version: 1.76.0 Command: /home/biocbuild/R/R-beta-2024-04-15_r86425/bin/R CMD build --keep-empty-dirs --no-resave-data webbioc StartedAt: 2024-05-09 04:22:54 -0000 (Thu, 09 May 2024) EndedAt: 2024-05-09 04:23:24 -0000 (Thu, 09 May 2024) EllapsedTime: 30.0 seconds RetCode: 0 Status: OK PackageFile: webbioc_1.76.0.tar.gz PackageFileSize: 302.2 KiB