Package: webbioc Version: 1.76.0 Command: /Library/Frameworks/R.framework/Resources/bin/R CMD build --keep-empty-dirs --no-resave-data webbioc StartedAt: 2024-06-10 06:37:10 -0400 (Mon, 10 Jun 2024) EndedAt: 2024-06-10 06:38:04 -0400 (Mon, 10 Jun 2024) EllapsedTime: 54.0 seconds RetCode: 0 Status: OK PackageFile: webbioc_1.76.0.tar.gz PackageFileSize: 310.5 KiB