Package: weaver Version: 1.70.0 Command: E:\biocbuild\bbs-3.19-bioc\R\bin\R.exe CMD check --no-multiarch --install=check:weaver.install-out.txt --library=E:\biocbuild\bbs-3.19-bioc\R\library --no-vignettes --timings weaver_1.70.0.tar.gz StartedAt: 2024-10-17 06:53:49 -0400 (Thu, 17 Oct 2024) EndedAt: 2024-10-17 06:54:15 -0400 (Thu, 17 Oct 2024) EllapsedTime: 25.8 seconds RetCode: 0 Status: WARNINGS CheckDir: weaver.Rcheck Warnings: 1