Package: weaver Version: 1.70.0 Command: F:\biocbuild\bbs-3.19-bioc\R\bin\R.exe CMD INSTALL weaver StartedAt: 2024-06-26 16:00:16 -0400 (Wed, 26 Jun 2024) EndedAt: 2024-06-26 16:00:21 -0400 (Wed, 26 Jun 2024) EllapsedTime: 5.0 seconds RetCode: 0 Status: OK