Package: weaver Version: 1.70.0 Command: rm -rf weaver.buildbin-libdir && mkdir weaver.buildbin-libdir && F:\biocbuild\bbs-3.19-bioc\R\bin\R.exe CMD INSTALL --build --library=weaver.buildbin-libdir weaver_1.70.0.tar.gz StartedAt: 2024-06-27 09:06:14 -0400 (Thu, 27 Jun 2024) EndedAt: 2024-06-27 09:06:26 -0400 (Thu, 27 Jun 2024) EllapsedTime: 12.2 seconds RetCode: 0 Status: OK PackageFile: weaver_1.70.0.zip PackageFileSize: 130.6 KiB