Package: weaver Version: 1.70.0 Command: /Library/Frameworks/R.framework/Resources/bin/R CMD INSTALL weaver StartedAt: 2024-10-16 15:48:50 -0400 (Wed, 16 Oct 2024) EndedAt: 2024-10-16 15:48:55 -0400 (Wed, 16 Oct 2024) EllapsedTime: 4.7 seconds RetCode: 0 Status: OK