Package: weaver Version: 1.70.0 Command: /Library/Frameworks/R.framework/Resources/bin/R CMD check --install=check:weaver.install-out.txt --library=/Library/Frameworks/R.framework/Resources/library --no-vignettes --timings weaver_1.70.0.tar.gz StartedAt: 2024-06-09 23:49:08 -0400 (Sun, 09 Jun 2024) EndedAt: 2024-06-09 23:49:34 -0400 (Sun, 09 Jun 2024) EllapsedTime: 26.1 seconds RetCode: 0 Status: WARNINGS CheckDir: weaver.Rcheck Warnings: 1