Package: weaver Version: 1.70.0 Command: /Library/Frameworks/R.framework/Resources/bin/R CMD build --keep-empty-dirs --no-resave-data weaver StartedAt: 2024-06-09 18:32:31 -0400 (Sun, 09 Jun 2024) EndedAt: 2024-06-09 18:32:40 -0400 (Sun, 09 Jun 2024) EllapsedTime: 9.0 seconds RetCode: 0 Status: OK PackageFile: weaver_1.70.0.tar.gz PackageFileSize: 231.2 KiB