Package: weaver Version: 1.70.0 Command: /home/biocbuild/R/R-beta-2024-04-15_r86425/bin/R CMD INSTALL weaver StartedAt: 2024-05-08 20:20:13 -0000 (Wed, 08 May 2024) EndedAt: 2024-05-08 20:20:16 -0000 (Wed, 08 May 2024) EllapsedTime: 2.2 seconds RetCode: 0 Status: OK