Package: weaver Version: 1.70.0 Command: /Library/Frameworks/R.framework/Resources/bin/R CMD check --install=check:weaver.install-out.txt --library=/Library/Frameworks/R.framework/Resources/library --no-vignettes --timings weaver_1.70.0.tar.gz StartedAt: 2024-10-18 16:41:19 -0400 (Fri, 18 Oct 2024) EndedAt: 2024-10-18 16:41:43 -0400 (Fri, 18 Oct 2024) EllapsedTime: 24.0 seconds RetCode: 0 Status: WARNINGS CheckDir: weaver.Rcheck Warnings: 1