Package: weaver Version: 1.70.0 Command: rm -rf weaver.buildbin-libdir && mkdir weaver.buildbin-libdir && /Users/biocbuild/BBS/utils/build-universal.sh weaver_1.70.0.tar.gz /Library/Frameworks/R.framework/Resources/bin/R weaver.buildbin-libdir StartedAt: 2024-10-15 20:49:29 -0400 (Tue, 15 Oct 2024) EndedAt: 2024-10-15 20:49:33 -0400 (Tue, 15 Oct 2024) EllapsedTime: 4.6 seconds RetCode: 0 Status: OK PackageFile: weaver_1.70.0.tgz PackageFileSize: 270.8 KiB