Package: wavClusteR Version: 2.38.0 Command: chmod a+r wavClusteR -R && E:\biocbuild\bbs-3.19-bioc\R\bin\R.exe CMD build --keep-empty-dirs --no-resave-data wavClusteR StartedAt: 2024-10-16 22:32:17 -0400 (Wed, 16 Oct 2024) EndedAt: 2024-10-16 22:33:35 -0400 (Wed, 16 Oct 2024) EllapsedTime: 77.9 seconds RetCode: 0 Status: OK PackageFile: wavClusteR_2.38.0.tar.gz PackageFileSize: 470.5 KiB