Package: wavClusteR Version: 2.38.0 Command: rm -rf wavClusteR.buildbin-libdir && mkdir wavClusteR.buildbin-libdir && F:\biocbuild\bbs-3.19-bioc\R\bin\R.exe CMD INSTALL --build --library=wavClusteR.buildbin-libdir wavClusteR_2.38.0.tar.gz StartedAt: 2024-06-27 09:06:12 -0400 (Thu, 27 Jun 2024) EndedAt: 2024-06-27 09:07:12 -0400 (Thu, 27 Jun 2024) EllapsedTime: 60.3 seconds RetCode: 0 Status: OK PackageFile: wavClusteR_2.38.0.zip PackageFileSize: 581.8 KiB