Package: wavClusteR Version: 2.38.0 Command: /home/biocbuild/bbs-3.19-bioc/R/bin/R CMD check --install=check:wavClusteR.install-out.txt --library=/home/biocbuild/bbs-3.19-bioc/R/site-library --timings wavClusteR_2.38.0.tar.gz StartedAt: 2024-10-17 06:19:11 -0400 (Thu, 17 Oct 2024) EndedAt: 2024-10-17 06:24:10 -0400 (Thu, 17 Oct 2024) EllapsedTime: 298.7 seconds RetCode: 0 Status: OK CheckDir: wavClusteR.Rcheck Warnings: 0