Package: wavClusteR Version: 2.38.0 Command: /Library/Frameworks/R.framework/Resources/bin/R CMD INSTALL wavClusteR StartedAt: 2024-10-16 16:00:33 -0400 (Wed, 16 Oct 2024) EndedAt: 2024-10-16 16:01:58 -0400 (Wed, 16 Oct 2024) EllapsedTime: 85.3 seconds RetCode: 0 Status: OK