Package: wavClusteR Version: 2.38.0 Command: /Library/Frameworks/R.framework/Resources/bin/R CMD build --keep-empty-dirs --no-resave-data wavClusteR StartedAt: 2024-10-17 00:18:00 -0400 (Thu, 17 Oct 2024) EndedAt: 2024-10-17 00:20:19 -0400 (Thu, 17 Oct 2024) EllapsedTime: 139.3 seconds RetCode: 0 Status: OK PackageFile: wavClusteR_2.38.0.tar.gz PackageFileSize: 789.5 KiB